BEGIN:VCALENDAR
VERSION:2.0
PRODID:spatie/icalendar-generator
DESCRIPTION:Events from 
X-WR-CALDESC:Events from 
REFRESH-INTERVAL;VALUE=DURATION:PT1440M
X-PUBLISHED-TTL:PT1440M
BEGIN:VTIMEZONE
TZID:America/Denver
BEGIN:STANDARD
DTSTART:20251102T020000Z
TZOFFSETFROM:-0600
TZOFFSETTO:-0700
END:STANDARD
BEGIN:DAYLIGHT
DTSTART:20260308T020000Z
TZOFFSETFROM:-0700
TZOFFSETTO:-0600
END:DAYLIGHT
BEGIN:STANDARD
DTSTART:20261101T020000Z
TZOFFSETFROM:-0600
TZOFFSETTO:-0700
END:STANDARD
END:VTIMEZONE
BEGIN:VTIMEZONE
TZID:UTC
BEGIN:STANDARD
DTSTART:20250728T161510Z
TZOFFSETFROM:+0000
TZOFFSETTO:+0000
END:STANDARD
END:VTIMEZONE
BEGIN:VEVENT
UID:146-57
DTSTAMP:20260424T161510Z
SUMMARY:Kronos Defense Group - Defensive Pistol Level 1
LOCATION:LCHG Range 230 Cattle Drive Rd  Boulder MT 59632
ORGANIZER;CN=lchgrange:MAILTO:lchgrange@gmail.com
DTSTART;TZID=America/Denver;VALUE=DATE:20260502
DTEND;TZID=America/Denver;VALUE=DATE:20260504
X-ALT-DESC;FMTTYPE=TEXT/HTML:
CATEGORIES:General
URL;VALUE=URI:https://lastchancehandgunners.com/mc-events/kronos-defense-gr
 oup-defensive-pistol-level-1/
METHOD:PUBLISH
END:VEVENT
END:VCALENDAR