BEGIN:VCALENDAR
VERSION:2.0
PRODID:spatie/icalendar-generator
DESCRIPTION:Events from 
X-WR-CALDESC:Events from 
REFRESH-INTERVAL;VALUE=DURATION:PT1440M
X-PUBLISHED-TTL:PT1440M
BEGIN:VTIMEZONE
TZID:America/Denver
BEGIN:STANDARD
DTSTART:20251102T020000Z
TZOFFSETFROM:-0600
TZOFFSETTO:-0700
END:STANDARD
BEGIN:DAYLIGHT
DTSTART:20260308T020000Z
TZOFFSETFROM:-0700
TZOFFSETTO:-0600
END:DAYLIGHT
END:VTIMEZONE
BEGIN:VTIMEZONE
TZID:UTC
BEGIN:STANDARD
DTSTART:20250728T160718Z
TZOFFSETFROM:+0000
TZOFFSETTO:+0000
END:STANDARD
END:VTIMEZONE
BEGIN:VEVENT
UID:170-43
DTSTAMP:20260424T160718Z
SUMMARY:Multigun
LOCATION:LCHG Range 230 Cattle Drive Rd  Boulder MT 59632
ORGANIZER;CN=lchgrange:MAILTO:lchgrange@gmail.com
DTSTART;TZID=America/Denver:20260426T090000
DTEND;TZID=America/Denver:20260426T150000
X-ALT-DESC;FMTTYPE=TEXT/HTML:
CATEGORIES:General
URL;VALUE=URI:https://lastchancehandgunners.com/mc-events/multigun/
METHOD:PUBLISH
END:VEVENT
END:VCALENDAR